{
 "currentVersion": 11.5,
 "serviceDescription": "CopernicusTest/ReclassdsosMalta2122s1tilesondemand",
 "name": "CopernicusTest/ReclassdsosMalta2122s1tilesondemand",
 "description": "",
 "extent": {
  "xmin": 4699438.374807347,
  "ymin": 1418582.553193681,
  "xmax": 4740938.374807347,
  "ymax": 1471082.553193681,
  "spatialReference": {
   "wkid": 3035,
   "latestWkid": 3035
  }
 },
 "initialExtent": {
  "xmin": 4699438.374807347,
  "ymin": 1418582.553193681,
  "xmax": 4740938.374807347,
  "ymax": 1471082.553193681,
  "spatialReference": {
   "wkid": 3035,
   "latestWkid": 3035
  }
 },
 "fullExtent": {
  "xmin": 4699438.374807347,
  "ymin": 1418582.553193681,
  "xmax": 4740938.374807347,
  "ymax": 1471082.553193681,
  "spatialReference": {
   "wkid": 3035,
   "latestWkid": 3035
  }
 },
 "sortableFields": "MinPS,MaxPS,LowPS,HighPS,CenterX,CenterY,ZOrder,Shape_Length,Shape_Area,YearSt,YearEnd",
 "bandCount": 1,
 "pixelType": "U16",
 "minValues": [],
 "maxValues": [],
 "meanValues": [],
 "stdvValues": [],
 "serviceProperties": "NorthWest<\/MosaicMethod>First<\/MosaicOperator>true<\/SortAscending><\/LockImageID>Name<\/TileOrderField>0<\/TileOrderBase>600.000000<\/AvgImageSpacingX>300.000000<\/AvgImageSpacingY>0.0<\/ViewPointX>0.0<\/ViewPointY>0.0<\/ViewPointDefShiftX>0.0<\/ViewPointDefShiftY>None<\/CompressionMethod>75<\/CompressionQuality>0.010000<\/CompressionTolerance>Nearest<\/SamplingMethod><\/ImageServiceProperties><\/ImageServer>",
 "allowedFields": "Name,MinPS,MaxPS,LowPS,HighPS,Tag,GroupName,ProductName,CenterX,CenterY,ZOrder,Shape_Length,Shape_Area,YearSt,YearEnd",
 "hasMultidimensions": false,
 "timeInfo": {
  "startTimeField": "YearSt",
  "endTimeField": "YearEnd",
  "timeExtent": [
   1609459200000,
   1672444800000
  ],
  "timeReference": null
 },
 "pixelSizeX": 500,
 "pixelSizeY": 500,
 "meanPixelSize": 500,
 "datasetFormat": "AMD",
 "uncompressedSize": 17430,
 "blockWidth": 2048,
 "blockHeight": 256,
 "compressionType": "None",
 "bandNames": [
  "Band_1"
 ],
 "allowCopy": true,
 "allowAnalysis": true,
 "itemAccess": false,
 "inspectionCapabilities": "",
 "minPixelSize": 1.5196089635275993,
 "maxPixelSize": 97.25497366576636,
 "copyrightText": "",
 "serviceDataType": "esriImageServiceDataTypeGeneric",
 "serviceSourceType": "esriImageServiceSourceTypeMosaicDataset",
 "objectIdField": "OBJECTID",
 "fields": [
  {
   "name": "OBJECTID",
   "type": "esriFieldTypeOID",
   "alias": "OBJECTID",
   "domain": null
  },
  {
   "name": "Shape",
   "type": "esriFieldTypeGeometry",
   "alias": "Shape",
   "domain": null
  },
  {
   "name": "Name",
   "type": "esriFieldTypeString",
   "alias": "Name",
   "domain": null,
   "length": 200
  },
  {
   "name": "MinPS",
   "type": "esriFieldTypeDouble",
   "alias": "MinPS",
   "domain": null
  },
  {
   "name": "MaxPS",
   "type": "esriFieldTypeDouble",
   "alias": "MaxPS",
   "domain": null
  },
  {
   "name": "LowPS",
   "type": "esriFieldTypeDouble",
   "alias": "LowPS",
   "domain": null
  },
  {
   "name": "HighPS",
   "type": "esriFieldTypeDouble",
   "alias": "HighPS",
   "domain": null
  },
  {
   "name": "Category",
   "type": "esriFieldTypeInteger",
   "alias": "Category",
   "domain": {
    "type": "codedValue",
    "name": "MosaicCatalogItemCategoryDomain",
    "description": "Catalog item categories.",
    "codedValues": [
     {
      "name": "Unknown",
      "code": 0
     },
     {
      "name": "Primary",
      "code": 1
     },
     {
      "name": "Overview",
      "code": 2
     },
     {
      "name": "Unprocessed Overview",
      "code": 3
     },
     {
      "name": "Partial Overview",
      "code": 4
     },
     {
      "name": "Inactive",
      "code": 5
     },
     {
      "name": "Uploaded",
      "code": 253
     },
     {
      "name": "Incomplete",
      "code": 254
     },
     {
      "name": "Custom",
      "code": 255
     }
    ],
    "mergePolicy": "esriMPTDefaultValue",
    "splitPolicy": "esriSPTDefaultValue"
   }
  },
  {
   "name": "Tag",
   "type": "esriFieldTypeString",
   "alias": "Tag",
   "domain": null,
   "length": 100
  },
  {
   "name": "GroupName",
   "type": "esriFieldTypeString",
   "alias": "GroupName",
   "domain": null,
   "length": 100
  },
  {
   "name": "ProductName",
   "type": "esriFieldTypeString",
   "alias": "ProductName",
   "domain": null,
   "length": 100
  },
  {
   "name": "CenterX",
   "type": "esriFieldTypeDouble",
   "alias": "CenterX",
   "domain": null
  },
  {
   "name": "CenterY",
   "type": "esriFieldTypeDouble",
   "alias": "CenterY",
   "domain": null
  },
  {
   "name": "ZOrder",
   "type": "esriFieldTypeInteger",
   "alias": "ZOrder",
   "domain": null
  },
  {
   "name": "YearSt",
   "type": "esriFieldTypeDate",
   "alias": "YearSt",
   "domain": null,
   "length": 8
  },
  {
   "name": "YearEnd",
   "type": "esriFieldTypeDate",
   "alias": "YearEnd",
   "domain": null,
   "length": 8
  },
  {
   "name": "Shape_Length",
   "type": "esriFieldTypeDouble",
   "alias": "Shape_Length",
   "domain": null
  },
  {
   "name": "Shape_Area",
   "type": "esriFieldTypeDouble",
   "alias": "Shape_Area",
   "domain": null
  }
 ],
 "capabilities": "Image,Metadata,Catalog,Mensuration",
 "defaultMosaicMethod": "Northwest",
 "allowedMosaicMethods": "NorthWest,Center,LockRaster,ByAttribute,Nadir,Viewpoint,Seamline,None",
 "sortField": "",
 "sortValue": null,
 "sortAscending": true,
 "mosaicOperator": "First",
 "maxDownloadSizeLimit": 2048,
 "defaultCompressionQuality": 75,
 "defaultResamplingMethod": "Nearest",
 "maxImageHeight": 4100,
 "maxImageWidth": 15000,
 "maxRecordCount": 1000,
 "maxDownloadImageCount": 20,
 "maxMosaicImageCount": 20,
 "singleFusedMapCache": true,
 "tileInfo": {
  "rows": 256,
  "cols": 256,
  "dpi": 96,
  "format": "PNG",
  "compressionQuality": 0,
  "origin": {
   "x": -8426403.908319328,
   "y": 1.595740390831941E7
  },
  "spatialReference": {
   "wkid": 3035,
   "latestWkid": 3035
  },
  "lods": [
   {
    "level": 0,
    "resolution": 99589.09303374475,
    "scale": 3.7639972170234233E8
   },
   {
    "level": 1,
    "resolution": 49794.546516872375,
    "scale": 1.8819986085117117E8
   },
   {
    "level": 2,
    "resolution": 24897.273258436187,
    "scale": 9.409993042558558E7
   },
   {
    "level": 3,
    "resolution": 12448.636629218094,
    "scale": 4.704996521279279E7
   },
   {
    "level": 4,
    "resolution": 6224.318314609047,
    "scale": 2.3524982606396396E7
   },
   {
    "level": 5,
    "resolution": 3112.1591573045234,
    "scale": 1.1762491303198198E7
   },
   {
    "level": 6,
    "resolution": 1556.0795786522617,
    "scale": 5881245.651599099
   },
   {
    "level": 7,
    "resolution": 778.0397893261309,
    "scale": 2940622.8257995495
   },
   {
    "level": 8,
    "resolution": 389.01989466306543,
    "scale": 1470311.4128997747
   },
   {
    "level": 9,
    "resolution": 194.50994733153271,
    "scale": 735155.7064498874
   },
   {
    "level": 10,
    "resolution": 97.25497366576636,
    "scale": 367577.8532249437
   },
   {
    "level": 11,
    "resolution": 48.62748683288318,
    "scale": 183788.92661247184
   },
   {
    "level": 12,
    "resolution": 24.31374341644159,
    "scale": 91894.46330623592
   },
   {
    "level": 13,
    "resolution": 12.156871708220795,
    "scale": 45947.23165311796
   },
   {
    "level": 14,
    "resolution": 6.078435854110397,
    "scale": 22973.61582655898
   },
   {
    "level": 15,
    "resolution": 3.0392179270551987,
    "scale": 11486.80791327949
   },
   {
    "level": 16,
    "resolution": 1.5196089635275993,
    "scale": 5743.403956639745
   },
   {
    "level": 17,
    "resolution": 0.7598044817637997,
    "scale": 2871.7019783198725
   },
   {
    "level": 18,
    "resolution": 0.37990224088189983,
    "scale": 1435.8509891599363
   }
  ]
 },
 "storageInfo": {
  "storageFormat": "esriMapCacheStorageModeCompactV2",
  "packetSize": 128
 },
 "cacheType": "Map",
 "allowRasterFunction": true,
 "rasterFunctionInfos": [
  {
   "name": "None",
   "description": "",
   "help": ""
  }
 ],
 "rasterTypeInfos": [
  {
   "name": "Raster Dataset",
   "description": "Supports all ArcGIS Raster Datasets",
   "help": ""
  }
 ],
 "mensurationCapabilities": "Basic",
 "hasHistograms": false,
 "hasColormap": false,
 "hasRasterAttributeTable": true,
 "minScale": 367577.8532249437,
 "maxScale": 5743.403956639745,
 "minLOD": 10,
 "maxLOD": 16,
 "exportTilesAllowed": false,
 "supportsStatistics": true,
 "supportsAdvancedQueries": true,
 "editFieldsInfo": null,
 "ownershipBasedAccessControlForRasters": null,
 "allowComputeTiePoints": false,
 "useStandardizedQueries": true,
 "advancedQueryCapabilities": {
  "useStandardizedQueries": true,
  "supportsStatistics": true,
  "supportsOrderBy": true,
  "supportsDistinct": true,
  "supportsPagination": true
 },
 "spatialReference": {
  "wkid": 3035,
  "latestWkid": 3035
 }
}
