View In:
ArcGIS JavaScript
EEA Discomap Portal
ArcGIS Earth
Service Description: Ana_Test/MiniMosaic_Delete_tif
Name: Ana_Test/MiniMosaic_Delete_tif
Description:
Single Fused Map Cache: false
Extent:
XMin: 3700000.0
YMin: 4100000.0
XMax: 3800000.0
YMax: 4300000.0
Spatial Reference: 3035
(3035)
LatestVCSWkid(0)
Initial Extent:
XMin: 3700000.0
YMin: 4100000.0
XMax: 3800000.0
YMax: 4300000.0
Spatial Reference: 3035
(3035)
LatestVCSWkid(0)
Full Extent:
XMin: 3700000.0
YMin: 4100000.0
XMax: 3800000.0
YMax: 4300000.0
Spatial Reference: 3035
(3035)
LatestVCSWkid(0)
Pixel Size X: 5.0
Pixel Size Y: 5.0
Band Count: 1
Pixel Type: U8
RasterFunction Infos: {"rasterFunctionInfos": [{
"name": "None",
"description": "",
"help": ""
}]}
Mensuration Capabilities: Basic
Inspection Capabilities:
Has Histograms: true
Has Colormap: false
Has Multi Dimensions : false
Rendering Rule:
Min Scale: 0
Max Scale: 0
Copyright Text:
Service Data Type: esriImageServiceDataTypeGeneric
Min Values: 0
Max Values: 1
Mean Values: 6.5007179249715E-4
Standard Deviation Values: 0.02548821722812
Object ID Field:
Fields:
None
Default Mosaic Method: Center
Allowed Mosaic Methods:
SortField:
SortValue: null
Mosaic Operator: First
Default Compression Quality: 75
Default Resampling Method: Bilinear
Max Record Count: null
Max Image Height: 4100
Max Image Width: 15000
Max Download Image Count: null
Max Mosaic Image Count: null
Allow Raster Function: true
Allow Copy: true
Allow Analysis: true
Allow Compute TiePoints: false
Supports Statistics: false
Supports Advanced Queries: false
Use StandardizedQueries: true
Raster Type Infos:
Name: Raster Dataset
Description: Supports all ArcGIS Raster Datasets
Help:
Has Raster Attribute Table: true
Edit Fields Info: null
Ownership Based AccessControl For Rasters: null
Child Resources:
Info
Raster Attribute Table
Histograms
Statistics
Key Properties
Legend
Raster Function Infos
Supported Operations:
Export Image
Identify
Measure
Compute Histograms
Compute Statistics Histograms
Get Samples
Compute Class Statistics
Query Boundary
Compute Pixel Location
Compute Angles
Validate
Project