View In:
ArcGIS JavaScript
EEA Discomap Portal
ArcGIS Earth
Service Description: CLMS_CLCplus_RASTER_rastertemp
Name: CLMS_CLCplus_RASTER_rastertemp
Description:
Single Fused Map Cache: false
Extent:
XMin: 690300.0
YMin: 1591300.0
XMax: 737700.0
YMax: 1646100.0
Spatial Reference: 32620
(32620)
LatestVCSWkid(0)
Initial Extent:
XMin: 690300.0
YMin: 1591300.0
XMax: 737700.0
YMax: 1646100.0
Spatial Reference: 32620
(32620)
LatestVCSWkid(0)
Full Extent:
XMin: 690300.0
YMin: 1591300.0
XMax: 737700.0
YMax: 1646100.0
Spatial Reference: 32620
(32620)
LatestVCSWkid(0)
Pixel Size X: 10.0
Pixel Size Y: 10.0
Band Count: 1
Pixel Type: U8
RasterFunction Infos: {"rasterFunctionInfos": [
{
"name": "Testoffunction",
"description": "A raster function template.",
"help": ""
},
{
"name": "None",
"description": "",
"help": ""
}
]}
Mensuration Capabilities: Basic
Inspection Capabilities:
Has Histograms: true
Has Colormap: false
Has Multi Dimensions : false
Rendering Rule:
Min Scale: 0
Max Scale: 0
Copyright Text:
Service Data Type: esriImageServiceDataTypeGeneric
Min Values: 1
Max Values: 254
Mean Values: 147.30602644059
Standard Deviation Values: 123.34661084195
Object ID Field:
Fields:
None
Default Mosaic Method: Center
Allowed Mosaic Methods:
SortField:
SortValue: null
Mosaic Operator: First
Default Compression Quality: 75
Default Resampling Method: Nearest
Max Record Count: null
Max Image Height: 4100
Max Image Width: 15000
Max Download Image Count: null
Max Mosaic Image Count: null
Allow Raster Function: true
Allow Copy: true
Allow Analysis: true
Allow Compute TiePoints: false
Supports Statistics: false
Supports Advanced Queries: false
Use StandardizedQueries: true
Raster Type Infos:
Name: Raster Dataset
Description: Supports all ArcGIS Raster Datasets
Help:
Has Raster Attribute Table: true
Edit Fields Info: null
Ownership Based AccessControl For Rasters: null
Child Resources:
Info
Raster Attribute Table
Histograms
Statistics
Key Properties
Legend
Raster Function Infos
Supported Operations:
Export Image
Identify
Measure
Compute Histograms
Compute Statistics Histograms
Get Samples
Compute Class Statistics
Query Boundary
Compute Pixel Location
Compute Angles
Validate
Project