View In:
ArcGIS JavaScript
EEA Discomap Portal
ArcGIS Earth
Service Description: CopernicusTest/ReclassdsosMalta2122s1tiles
Name: CopernicusTest/ReclassdsosMalta2122s1tiles
Description:
Single Fused Map Cache: true
Tile Info:
- Height: 256
- Width: 256
- DPI: 96
-
Levels of Detail: 19
-
Level ID: 0
[ Start Tile, End Tile ]
- Resolution: 99589.09303374475
- Scale: 3.7639972170234233E8
-
Level ID: 1
[ Start Tile, End Tile ]
- Resolution: 49794.546516872375
- Scale: 1.8819986085117117E8
-
Level ID: 2
[ Start Tile, End Tile ]
- Resolution: 24897.273258436187
- Scale: 9.409993042558558E7
-
Level ID: 3
[ Start Tile, End Tile ]
- Resolution: 12448.636629218094
- Scale: 4.704996521279279E7
-
Level ID: 4
[ Start Tile, End Tile ]
- Resolution: 6224.318314609047
- Scale: 2.3524982606396396E7
-
Level ID: 5
[ Start Tile, End Tile ]
- Resolution: 3112.1591573045234
- Scale: 1.1762491303198198E7
-
Level ID: 6
[ Start Tile, End Tile ]
- Resolution: 1556.0795786522617
- Scale: 5881245.651599099
-
Level ID: 7
[ Start Tile, End Tile ]
- Resolution: 778.0397893261309
- Scale: 2940622.8257995495
-
Level ID: 8
[ Start Tile, End Tile ]
- Resolution: 389.01989466306543
- Scale: 1470311.4128997747
-
Level ID: 9
[ Start Tile, End Tile ]
- Resolution: 194.50994733153271
- Scale: 735155.7064498874
-
Level ID: 10
[ Start Tile, End Tile ]
- Resolution: 97.25497366576636
- Scale: 367577.8532249437
-
Level ID: 11
[ Start Tile, End Tile ]
- Resolution: 48.62748683288318
- Scale: 183788.92661247184
-
Level ID: 12
[ Start Tile, End Tile ]
- Resolution: 24.31374341644159
- Scale: 91894.46330623592
-
Level ID: 13
[ Start Tile, End Tile ]
- Resolution: 12.156871708220795
- Scale: 45947.23165311796
-
Level ID: 14
[ Start Tile, End Tile ]
- Resolution: 6.078435854110397
- Scale: 22973.61582655898
-
Level ID: 15
[ Start Tile, End Tile ]
- Resolution: 3.0392179270551987
- Scale: 11486.80791327949
-
Level ID: 16
[ Start Tile, End Tile ]
- Resolution: 1.5196089635275993
- Scale: 5743.403956639745
-
Level ID: 17
[ Start Tile, End Tile ]
- Resolution: 0.7598044817637997
- Scale: 2871.7019783198725
-
Level ID: 18
[ Start Tile, End Tile ]
- Resolution: 0.37990224088189983
- Scale: 1435.8509891599363
- Format: PNG
- Compression Quality: 0.0
- LERC Error: NaN
- Origin: X: -8426403.908319328
Y: 1.595740390831941E7
- Spatial Reference: 3035
(3035)
LatestVCSWkid(0)
Storage Info:
- Storage Format: esriMapCacheStorageModeCompactV2
- Packet Size: 128
Extent:
XMin: 4699438.374807347
YMin: 1418582.553193681
XMax: 4740938.374807347
YMax: 1471082.553193681
Spatial Reference: 3035
(3035)
LatestVCSWkid(0)
Initial Extent:
XMin: 4699438.374807347
YMin: 1418582.553193681
XMax: 4740938.374807347
YMax: 1471082.553193681
Spatial Reference: 3035
(3035)
LatestVCSWkid(0)
Full Extent:
XMin: 4699438.374807347
YMin: 1418582.553193681
XMax: 4740938.374807347
YMax: 1471082.553193681
Spatial Reference: 3035
(3035)
LatestVCSWkid(0)
Time Info:
Start Time Field: YearSt
End Time Field: YearEnd
Time Extent:
[2021/01/01 00:00:00 UTC, 2022/12/31 00:00:00 UTC]
Time Reference:
N/A
Pixel Size X: 500.0
Pixel Size Y: 500.0
Band Count: 1
Pixel Type: U16
RasterFunction Infos: {"rasterFunctionInfos": [{
"name": "None",
"description": "",
"help": ""
}]}
Mensuration Capabilities: Basic
Inspection Capabilities:
Has Histograms: false
Has Colormap: false
Has Multi Dimensions : false
Rendering Rule:
Min Scale: 367577.8532249437
Max Scale: 5743.403956639745
Min LOD: 10
Max LOD: 16
Resampling: false
Copyright Text:
Service Data Type: esriImageServiceDataTypeGeneric
Min Values: N/A
Max Values: N/A
Mean Values: N/A
Standard Deviation Values: N/A
Object ID Field: OBJECTID
Fields:
-
OBJECTID
(
type: esriFieldTypeOID, alias: OBJECTID
)
-
Shape
(
type: esriFieldTypeGeometry, alias: Shape
)
-
Name
(
type: esriFieldTypeString, alias: Name, length: 200
)
-
MinPS
(
type: esriFieldTypeDouble, alias: MinPS
)
-
MaxPS
(
type: esriFieldTypeDouble, alias: MaxPS
)
-
LowPS
(
type: esriFieldTypeDouble, alias: LowPS
)
-
HighPS
(
type: esriFieldTypeDouble, alias: HighPS
)
-
Category
(
type: esriFieldTypeInteger, alias: Category
, Coded Values:
[0: Unknown]
, [1: Primary]
, [2: Overview]
, ...6 more...
)
-
Tag
(
type: esriFieldTypeString, alias: Tag, length: 100
)
-
GroupName
(
type: esriFieldTypeString, alias: GroupName, length: 100
)
-
ProductName
(
type: esriFieldTypeString, alias: ProductName, length: 100
)
-
CenterX
(
type: esriFieldTypeDouble, alias: CenterX
)
-
CenterY
(
type: esriFieldTypeDouble, alias: CenterY
)
-
ZOrder
(
type: esriFieldTypeInteger, alias: ZOrder
)
-
YearSt
(
type: esriFieldTypeDate, alias: YearSt, length: 8
)
-
YearEnd
(
type: esriFieldTypeDate, alias: YearEnd, length: 8
)
-
Shape_Length
(
type: esriFieldTypeDouble, alias: Shape_Length
)
-
Shape_Area
(
type: esriFieldTypeDouble, alias: Shape_Area
)
Default Mosaic Method: Northwest
Allowed Mosaic Methods: NorthWest,Center,LockRaster,ByAttribute,Nadir,Viewpoint,Seamline,None
SortField:
SortValue: null
Mosaic Operator: First
Default Compression Quality: 75
Default Resampling Method: Nearest
Max Record Count: 1000
Max Image Height: 4100
Max Image Width: 15000
Max Download Image Count: 20
Max Mosaic Image Count: 20
Allow Raster Function: true
Allow Copy: true
Allow Analysis: true
Allow Compute TiePoints: false
Supports Statistics: true
Supports Advanced Queries: true
Use StandardizedQueries: true
Raster Type Infos:
Name: Raster Dataset
Description: Supports all ArcGIS Raster Datasets
Help:
Has Raster Attribute Table: true
Edit Fields Info: null
Ownership Based AccessControl For Rasters: null
Child Resources:
Info
Raster Attribute Table
Statistics
Key Properties
Legend
Raster Function Infos
Supported Operations:
Export Image
Query
Identify
Measure
Compute Histograms
Compute Statistics Histograms
Get Samples
Compute Class Statistics
Query GPS Info
Find Images
Image to Map
Map to Image
Measure from Image
Image to Map Multiray
Query Boundary
Compute Pixel Location
Compute Angles
Validate
Project